BEGIN:VCALENDAR
VERSION:2.0
PRODID:-//Your Site//Agenda Calendar//EN
BEGIN:VEVENT
UID:agenda-1971@www.campusgouda.nl
DTSTAMP:20260420T045111Z
DTSTART:20261008T143000
DTEND:20261008T170000
SUMMARY:Save the Date!  Netwerkevenement  Logistiek & Technologie
LOCATION:Arti Legi, Markt 27, Gouda
DESCRIPTION:More info: https://www.campusgouda.nl/agenda-item/evenement-logistiek-technologie-2026/
END:VEVENT
END:VCALENDAR
